BEGIN:VCALENDAR
VERSION:2.0
PRODID:-//BASIC Berkshires - ECPv6.15.20//NONSGML v1.0//EN
CALSCALE:GREGORIAN
METHOD:PUBLISH
X-ORIGINAL-URL:https://basicberkshires.org
X-WR-CALDESC:Events for BASIC Berkshires
REFRESH-INTERVAL;VALUE=DURATION:PT1H
X-Robots-Tag:noindex
X-PUBLISHED-TTL:PT1H
BEGIN:VTIMEZONE
TZID:America/New_York
BEGIN:DAYLIGHT
TZOFFSETFROM:-0500
TZOFFSETTO:-0400
TZNAME:EDT
DTSTART:20220313T070000
END:DAYLIGHT
BEGIN:STANDARD
TZOFFSETFROM:-0400
TZOFFSETTO:-0500
TZNAME:EST
DTSTART:20221106T060000
END:STANDARD
BEGIN:DAYLIGHT
TZOFFSETFROM:-0500
TZOFFSETTO:-0400
TZNAME:EDT
DTSTART:20230312T070000
END:DAYLIGHT
BEGIN:STANDARD
TZOFFSETFROM:-0400
TZOFFSETTO:-0500
TZNAME:EST
DTSTART:20231105T060000
END:STANDARD
BEGIN:DAYLIGHT
TZOFFSETFROM:-0500
TZOFFSETTO:-0400
TZNAME:EDT
DTSTART:20240310T070000
END:DAYLIGHT
BEGIN:STANDARD
TZOFFSETFROM:-0400
TZOFFSETTO:-0500
TZNAME:EST
DTSTART:20241103T060000
END:STANDARD
BEGIN:DAYLIGHT
TZOFFSETFROM:-0500
TZOFFSETTO:-0400
TZNAME:EDT
DTSTART:20250309T070000
END:DAYLIGHT
BEGIN:STANDARD
TZOFFSETFROM:-0400
TZOFFSETTO:-0500
TZNAME:EST
DTSTART:20251102T060000
END:STANDARD
BEGIN:DAYLIGHT
TZOFFSETFROM:-0500
TZOFFSETTO:-0400
TZNAME:EDT
DTSTART:20260308T070000
END:DAYLIGHT
BEGIN:STANDARD
TZOFFSETFROM:-0400
TZOFFSETTO:-0500
TZNAME:EST
DTSTART:20261101T060000
END:STANDARD
END:VTIMEZONE
BEGIN:VEVENT
DTSTART;TZID=America/New_York:20250423T100000
DTEND;TZID=America/New_York:20250427T220000
DTSTAMP:20260421T060153
CREATED:20250428T151601Z
LAST-MODIFIED:20250428T151601Z
UID:10004834-1745402400-1745791200@basicberkshires.org
SUMMARY:Mahaiwe & NYTW Workshop’s Mind the Gap\, Intergenerational Performance Program / Mind the Gap\, programa de representación intergeneracional del New York Theatre Workshop
DESCRIPTION:New York Theatre Workshop’s Mind the Gap\, Intergenerational Performance Program/\nMind the Gap\, programa de representación intergeneracional del New York Theatre Workshop\n\nMonday\, June 23 – Friday\, June 27\n\n\n\n\n\nPublic performance on Friday\, June 27 at 7pm\n  \nAPPLY TO PROGRAM\nRESERVE TICKETS\n  \n\nMind the Gap is a free intergenerational theatre program in which youth [14-21] and elders [60+] interview each other and collectively create a performance piece inspired by each other’s life stories. Mind the Gap’s primary goal is to use theatre as a creative tool to increase empathy and communication between generations. The workshop will culminate with a public presentation in which the collaborative work is performed by the participants. No theatre experience is required to participate in the program.\n \nYouth stipends are $250 per person.\n \n\n\n\nProgram Goals\nThrough the workshop participants are able to: \n\nInvestigate\, listen and empathize with someone of another generation\, while using playwriting as a tool to understand and represent their unique experience\nBroaden their perspective\, see the other generation in a new light\, and take on the task of telling someone else’s story with respect and understanding\nShare their stories and ultimately see them interpreted through another’s eyes making meaning out of their personal narratives and gaining insights into their own lives\n\nImportant Criteria\n\n\n\n\nDesire to share\, listen and create – sharing your stories with someone of another generation and giving them permission to use your stories as inspiration for a play.\nDesire to bring your curiosity\, stories\, experiences\, creativity\, listening ears\, and willingness to share at every session.\nDesire to perform and act both individually as well as within an ensemble.\nDesire to collaborate generously and with an open mind.\nDesire and ability to attend every session. Since most of the work that we will do together will be in partner groups\, potential participants with fewer conflicts will be prioritized over those with more conflicts.\n\nThings to Remember\n\n\n\nIt is important to note that Mind the Gap is not an acting class; performance is merely the tool through which we mind the gap between generations.\nMind the Gap is not focused exclusively on the past. During the program participants explore the past\, present and the future. However\, Mind the Gap is not a documentary or verbatim theatre program. Intergenerational interviews are used as inspiration\, not as the sole material from which artistic content is created. Participants are treated as artists.\nMind the Gap is not a mentoring program. All participants are seen as equal in the process. We value everyone’s stories\, input and life experiences. At New York Theatre Workshop we believe that we always have something to learn from each other\, regardless of age.\nAlthough we encourage everyone to push past their comfort zones\, we do not demand that anyone share anything that they feel is too personal or too private. On that note\, if participants share something with their partner that they wish not to have shared or written about\, participants always have the right to ask their partner(s) to exclude any information from the artistic piece(s).\n\n\n\n\n\nLunes 23 de junio – Viernes 27 de junio\n\n\n\n\n\nFunción pública el viernes 27 de junio a las 19h.\n  \nAPLICAR AL PROGRAMA\nRESERVA DE ENTRADAS\n  \n\nMind the Gap es un programa gratuito de teatro intergeneracional en el que jóvenes [14-21] y mayores [60+] se entrevistan y crean colectivamente una pieza teatral inspirada en sus respectivas historias de vida. El objetivo principal de Mind the Gap es utilizar el teatro como herramienta creativa para fomentar la empatía y la comunicación intergeneracional. El taller culminará con una presentación pública donde los participantes interpretarán el trabajo colaborativo. No se requiere experiencia teatral para participar en el programa.\n \nLos estipendios para jóvenes son $ 250 por persona.\n \n\n\n\nObjetivos del programa\nA través del taller los participantes podrán: \n\nInvestigar\, escuchar y empatizar con alguien de otra generación\, mientras se utiliza la dramaturgia como herramienta para comprender y representar su experiencia única.\nAmpliar su perspectiva \, ver a la otra generación bajo una nueva luz y asumir la tarea de contar la historia de otra persona con respeto y comprensión.\nCompartir sus historias y\, en última instancia\, verlas interpretadas a través de los ojos de otros\, dando sentido a sus narrativas personales y adquiriendo conocimientos sobre sus propias vidas.\n\nCriterios importantes\n\n\n\n\nDeseo de compartir\, escuchar y crear: compartir tus historias con alguien de otra generación y darle permiso para usar tus historias como inspiración para una obra.\nDeseo aportar mi curiosidad\, historias\, experiencias\, creatividad\, oídos atentos y voluntad de compartir en cada sesión.\nDeseo de actuar y actuar tanto individualmente como en conjunto.\nDeseo de colaborar generosamente y con la mente abierta.\nDeseo y capacidad de asistir a todas las sesiones. Dado que la mayor parte del trabajo conjunto se realizará en grupos de compañeros\, se priorizará a los participantes con menos conflictos sobre aquellos con más.\n\nCosas para recordar\n\n\n\nEs importante destacar que Mind the Gap no es una clase de actuación; la actuación es simplemente la herramienta a través de la cual nos ocupamos de la brecha entre generaciones.\nMind the Gap no se centra exclusivamente en el pasado. Durante el programa\, los participantes exploran el pasado\, el presente y el futuro. Sin embargo\, Mind the Gap no es un programa documental ni de teatro literal. Las entrevistas intergeneracionales se utilizan como inspiración\, no como el único material para la creación de contenido artístico. Los participantes son tratados como artistas.\nMind the Gap no es un programa de mentoría. Todos los participantes son considerados iguales en el proceso. Valoramos las historias\, las aportaciones y las experiencias de vida de cada uno. En New York Theatre Workshop creemos que siempre tenemos algo que aprender unos de otros\, sin importar la edad.\nAunque animamos a todos a superar sus límites\, no exigimos que compartan nada que consideren demasiado personal o privado. En ese sentido\, si los participantes comparten algo con su pareja que no desean que se comparta o escriba\, siempre tienen derecho a pedirle a su(s) pareja(s) que excluya(n) cualquier información de la(s) obra(s) artística(s).
URL:https://basicberkshires.org/event/mahaiwe-nytw-workshops-mind-the-gap-intergenerational-performance-program-mind-the-gap-programa-de-representacion-intergeneracional-del-new-york-theatre-workshop/
LOCATION:Mahaiwe Performing Arts Center\, 14 Castle Street\, Great Barrington\, MA\, 01230
ORGANIZER;CN="Mahaiwe Performing Arts Center":MAILTO:info@mahaiwe.org
END:VEVENT
BEGIN:VEVENT
DTSTART;TZID=America/New_York:20241101T190000
DTEND;TZID=America/New_York:20241101T210000
DTSTAMP:20260421T060153
CREATED:20241016T193548Z
LAST-MODIFIED:20241016T193548Z
UID:10003603-1730487600-1730494800@basicberkshires.org
SUMMARY:100 Years of Movies: The Grand Budapest Hotel
DESCRIPTION:Wes Anderson’s stylistic filmmaking takes on high crime in this star-studded comedy. The ensemble cast features Ralph Fiennes\, F. Murray Abraham\, Mathieu Amalric\, Adrien Brody\, Willem Dafoe\, Jeff Goldblum\, Harvey Keitel\, Jude Law\, Bill Murray\, Edward Norton\, Saoirse Ronan\, Jason Schwartzman\, Léa Seydoux\, Tilda Swinton\, Tom Wilkinson\, Owen Wilson\, and Tony Revolori. (Rated R\, 1h 39min.) \nThis event is part of the Mahaiwe’s 100 Years of Movies series — Join film director and educator Deborah Reinisch for a century of movies at the Mahaiwe\, 1914 through 2014. Deborah will introduce a classic film from each decade\, each dated 10 years apart\, highlighting what was going on in Hollywood\, the Berkshires and the world.
URL:https://basicberkshires.org/event/100-years-of-movies-the-grand-budapest-hotel/
LOCATION:Mahaiwe Performing Arts Center\, 14 Castle Street\, Great Barrington\, MA\, 01230
CATEGORIES:Art,Family Friendly
ATTACH;FMTTYPE=image/png:https://basicberkshires.org/wp-content/uploads/2024/10/Screen-Shot-2024-08-14-at-12.21.14-PM-1.png
ORGANIZER;CN="Mahaiwe Performing Arts Center":MAILTO:info@mahaiwe.org
END:VEVENT
BEGIN:VEVENT
DTSTART;TZID=America/New_York:20240302T200000
DTEND;TZID=America/New_York:20240302T220000
DTSTAMP:20260421T060153
CREATED:20240206T192612Z
LAST-MODIFIED:20240206T192612Z
UID:10003158-1709409600-1709416800@basicberkshires.org
SUMMARY:Ballet Hispánico
DESCRIPTION:$34 – $84\nMahaiwe Member & Youth Discount Event \n$34 Reserved\n$64 Preferred\n$84 Premium \nMembers receive $5 off each ticket\n$15 ages 30 and under (visit the Box Office or call 413-528-0100\, Wed – Sat\, 12-4pm)  \nBallet Hispánico is one of the nation’s most renowned Latino dance organizations and one of America’s Cultural Treasures. For 50 years Ballet Hispánico has been bringing communities together to celebrate and explore Latino cultures through innovative dance performances\, transformative dance training\, and enduring community engagement experiences.    \nThe organization’s founder\, National Medal of Arts recipient Tina Ramirez\, sought to give voice to the Hispanic experience and break through stereotypes. Today\, Ballet Hispánico is led by Eduardo Vilaro\, an acclaimed choreographer and former member of the Company\, whose vision of social equity\, cultural identity\, and quality arts education for all drives its programs.  \nBallet Hispánico\, a role model in and for the Latino community\, is inspiring creativity and social awareness in our neighborhoods and across the country by providing access to arts education.  \nREPERTORY: \n\nLínea Recta by Annabelle Lopez Ochoa\n¡Si Señor! ¡Es Mi Son! (excerpt) by Alberto Alonso\nDanse Creole (excerpt) by Geoffrey Holder\nBuscando a Juan (excerpt) by Eduardo Vilaro\n18+1 by Gustavo Ramírez Sansano
URL:https://basicberkshires.org/event/ballet-hispanico/2024-03-02/2/
LOCATION:Mahaiwe Performing Arts Center\, 14 Castle Street\, Great Barrington\, MA\, 01230
CATEGORIES:Family Friendly,Performance
ATTACH;FMTTYPE=image/jpeg:https://basicberkshires.org/wp-content/uploads/2024/02/230431-215Linea-1-by-Erin-Baiano-scaled.jpg
ORGANIZER;CN="Mahaiwe Performing Arts Center":MAILTO:info@mahaiwe.org
END:VEVENT
BEGIN:VEVENT
DTSTART;TZID=America/New_York:20240302T150000
DTEND;TZID=America/New_York:20240302T170000
DTSTAMP:20260421T060153
CREATED:20240206T192612Z
LAST-MODIFIED:20240206T192612Z
UID:10003157-1709391600-1709398800@basicberkshires.org
SUMMARY:Ballet Hispánico
DESCRIPTION:$34 – $84\nMahaiwe Member & Youth Discount Event \n$34 Reserved\n$64 Preferred\n$84 Premium \nMembers receive $5 off each ticket\n$15 ages 30 and under (visit the Box Office or call 413-528-0100\, Wed – Sat\, 12-4pm)  \nBallet Hispánico is one of the nation’s most renowned Latino dance organizations and one of America’s Cultural Treasures. For 50 years Ballet Hispánico has been bringing communities together to celebrate and explore Latino cultures through innovative dance performances\, transformative dance training\, and enduring community engagement experiences.    \nThe organization’s founder\, National Medal of Arts recipient Tina Ramirez\, sought to give voice to the Hispanic experience and break through stereotypes. Today\, Ballet Hispánico is led by Eduardo Vilaro\, an acclaimed choreographer and former member of the Company\, whose vision of social equity\, cultural identity\, and quality arts education for all drives its programs.  \nBallet Hispánico\, a role model in and for the Latino community\, is inspiring creativity and social awareness in our neighborhoods and across the country by providing access to arts education.  \nREPERTORY: \n\nLínea Recta by Annabelle Lopez Ochoa\n¡Si Señor! ¡Es Mi Son! (excerpt) by Alberto Alonso\nDanse Creole (excerpt) by Geoffrey Holder\nBuscando a Juan (excerpt) by Eduardo Vilaro\n18+1 by Gustavo Ramírez Sansano
URL:https://basicberkshires.org/event/ballet-hispanico/2024-03-02/1/
LOCATION:Mahaiwe Performing Arts Center\, 14 Castle Street\, Great Barrington\, MA\, 01230
CATEGORIES:Family Friendly,Performance
ATTACH;FMTTYPE=image/jpeg:https://basicberkshires.org/wp-content/uploads/2024/02/230431-215Linea-1-by-Erin-Baiano-scaled.jpg
ORGANIZER;CN="Mahaiwe Performing Arts Center":MAILTO:info@mahaiwe.org
END:VEVENT
BEGIN:VEVENT
DTSTART;TZID=America/New_York:20230930T190000
DTEND;TZID=America/New_York:20230930T213000
DTSTAMP:20260421T060153
CREATED:20230901T002407Z
LAST-MODIFIED:20230901T002407Z
UID:10002110-1696100400-1696109400@basicberkshires.org
SUMMARY:Comedian Alfredo Campo & Mariachi "Emperadores de Puebla"
DESCRIPTION:FREE\, Reservations requested. Reserve online or via the Box Office\, Wednesday through Saturday\, from 12pm to 4pm\, 413-528-0100.   \nA Festival Latino event featuring music\, dance\, and international humor!  \nMariachi band Emperadores de Puebla will open the evening with beautiful and classic Mariachi songs well known in Latin American culture. Audiences are encouraged to sing along and dance.  \nChicago-based Latin-American actor and comedian Alfredo Campo will follow with stand-up comedy in Spanish\, Spanglish and English. Campo’s show “I just arrived” or “Recién llegado” is full of entertainment and humor.
URL:https://basicberkshires.org/event/comedian-alfredo-campo-mariachi-emperadores-de-puebla/
LOCATION:Mahaiwe Performing Arts Center\, 14 Castle Street\, Great Barrington\, MA\, 01230
CATEGORIES:Music,Performance
ATTACH;FMTTYPE=image/png:https://basicberkshires.org/wp-content/uploads/2023/08/Grafica-Generica-Juan-Fran-de-la-Foch-widened.png
ORGANIZER;CN="Mahaiwe Performing Arts Center":MAILTO:info@mahaiwe.org
END:VEVENT
BEGIN:VEVENT
DTSTART;TZID=America/New_York:20230903T190000
DTEND;TZID=America/New_York:20230903T210000
DTSTAMP:20260421T060153
CREATED:20230810T190050Z
LAST-MODIFIED:20230810T190050Z
UID:10002109-1693767600-1693774800@basicberkshires.org
SUMMARY:Up (2009\, en español)
DESCRIPTION:GRATIS\, se requiere reservación. Reserva online o en taquilla\, de miércoles a sábado\, de 12pm a 4pm\, 413-528-0100.  \nDisney’s Up es una historia de aventuras sobre dos compañeros de viaje poco convencionales: Carl (con la voz de Ed Asner)\, un viudo anciano\, y Russell (Jordan Nagai)\, un miembro de la tropa de exploradores locales. Carl inadvertidamente lleva a Russell a bordo de su casa voladora improvisada propulsada por globos\, y los dos se embarcan en una expedición a Sur América\, aprendiendo una o dos cosas el uno del otro en el camino. (PG\, 1h\, 36min.)  \n*** \nFREE\, Reservations required. Reserve online or via the Box Office\, Wednesday through Saturday\, from 12pm to 4pm\, 413-528-0100.   \nDisney’s Up is an adventure story about two unlikely travel companions: Carl (voiced by Ed Asner)\, an elderly widower\, and Russell (Jordan Nagai)\, a local scout troop member. Carl inadvertently brings Russell aboard his balloon-powered\, makeshift flying house\, and the two embark on an expedition to South America\, learning a thing or two from each other along the way. (PG\, 1h\, 36min.) 
URL:https://basicberkshires.org/event/up-2009-en-espanol/
LOCATION:Mahaiwe Performing Arts Center\, 14 Castle Street\, Great Barrington\, MA\, 01230
CATEGORIES:Family Friendly
ATTACH;FMTTYPE=image/jpeg:https://basicberkshires.org/wp-content/uploads/2023/08/MV5BMTMyODc0ODI2OF5BMl5BanBnXkFtZTcwODQ5OTIzMw@@._V1_.jpg
ORGANIZER;CN="Mahaiwe Performing Arts Center":MAILTO:info@mahaiwe.org
END:VEVENT
BEGIN:VEVENT
DTSTART;TZID=America/New_York:20230513T200000
DTEND;TZID=America/New_York:20230513T213000
DTSTAMP:20260421T060153
CREATED:20230215T043047Z
LAST-MODIFIED:20230215T043047Z
UID:10000014-1684008000-1684013400@basicberkshires.org
SUMMARY:Pedrito Martinez
DESCRIPTION:Pedrito Martinez \nCuban percussionist Pedrito Martinez will perform with his band on Saturday\, May 13 at 8 p.m.  \nPedro Pablo “Pedrito” Martinez was born in Havana\, Cuba\, in 1973 in the Cayo Hueso neighborhood\, where rumba is played all day long\, and began his musical career at the age of 11\, with a foundation in the rumba and Afro Cuban Yoruba traditions. Since settling in New York City in the fall of 1998\, Pedrito has recorded or performed with Paul Simon\, Wynton Marsalis\, Paquito D’Rivera\, Bruce Springsteen\, Ruben Blades\, Eddie Palmieri\, Dave Matthews\, and Sting\, and has contributed to over 75 albums. A consummate master of Afro-Cuban folkloric music and the batá drum\, he is also the world’s first-call rumbero—playing\, singing\, and dancing with dozens of Cuban rumba groups. \nPedrito Martinez’s performance is coordinated in part by SCAN\, the Mahaiwe’s Spanish-language Community Advisory Network committee. SCAN is organized in partnership with VIM (Volunteers in Medicine Berkshires) and receives funding from Berkshire Taconic Community Foundation’s Arts Build Community Initiative.  \nTickets \nTickets can be purchased online at mahaiwe.org\, or by calling or visiting the Box Office\, 413-528-0100\, on Wednesday through Saturday from noon to 4 p.m. \nIndividuals ages 30 and under are eligible for $15 tickets directly through the Box Office. \nUse discount code welcome2023 at checkout online or directly through the Box Office to receive 50% off each ticket. \nFor the latest COVID safety protocols\, visit mahaiwe.org/update.  \nAbout the Mahaiwe \nLocated in downtown Great Barrington\, Mass.\, the Mahaiwe Performing Arts Center is the year-round presenter of world-class music\, dance\, theater\, classic films\, Live in HD broadcasts\, and arts education programs for the southern Berkshires and neighboring regions. The intimate jewel box of a theater opened in 1905. Since 2005\, the performing arts center has hosted over 1\,500 events and welcomed over half a million people through its doors. More than 22\,000 students from 73 different schools have benefited from the Mahaiwe’s school-time performances and residencies. For more information\, see mahaiwe.org. 
URL:https://basicberkshires.org/event/pedrito-martinez/
LOCATION:Mahaiwe Performing Arts Center\, 14 Castle Street\, Great Barrington\, MA\, 01230
CATEGORIES:Music,Performance
ATTACH;FMTTYPE=image/jpeg:https://basicberkshires.org/wp-content/uploads/2023/02/IMG_1437-2-scaled-1.jpg
ORGANIZER;CN="Mahaiwe Performing Arts Center":MAILTO:info@mahaiwe.org
END:VEVENT
BEGIN:VEVENT
DTSTART;TZID=America/New_York:20230309T190000
DTEND;TZID=America/New_York:20230309T190000
DTSTAMP:20260421T060153
CREATED:20230223T220244Z
LAST-MODIFIED:20230223T220244Z
UID:10000082-1678388400-1678388400@basicberkshires.org
SUMMARY:JazzReach - Metta Quintet's She Said / She Says: Women in Jazz
DESCRIPTION:$20 general admission / $15 Mahaiwe Members / $10 ages 12 and under  \nShe Said / She Says is a comprehensive program highlighting some of the many important achievements of female composers\, arrangers\, instrumentalists and vocalists from early 20th century through present-day. Using U.S. and 20th Century women’s history as a backdrop\, She Said / She Says celebrates the lives of some of the many courageous\, creative women who have dedicated their lives to the serious study and practice of jazz music. \nEstablished in 1994\, JazzReach is a nationally recognized New York City not-for-profit organization dedicated to the promotion\, performance\, creation and teaching of jazz music. She Said / She Says will be performed by the Metta Quintet\, JazzReach’s resident ensemble. \nUse the code jazzwomen2023 at online checkout to receive free tickets!
URL:https://basicberkshires.org/event/jazzreach-metta-quintets-she-said-she-says-women-in-jazz/2023-03-09/2/
LOCATION:Mahaiwe Performing Arts Center\, 14 Castle Street\, Great Barrington\, MA\, 01230
CATEGORIES:Educational,Family Friendly,Music,Performance
ATTACH;FMTTYPE=image/png:https://basicberkshires.org/wp-content/uploads/2023/02/she-said-she-says-expanded-left.png
ORGANIZER;CN="Mahaiwe Performing Arts Center":MAILTO:info@mahaiwe.org
END:VEVENT
BEGIN:VEVENT
DTSTART;TZID=America/New_York:20230309T080000
DTEND;TZID=America/New_York:20230309T170000
DTSTAMP:20260421T060153
CREATED:20230223T220244Z
LAST-MODIFIED:20230223T220244Z
UID:10000081-1678348800-1678381200@basicberkshires.org
SUMMARY:JazzReach - Metta Quintet's She Said / She Says: Women in Jazz
DESCRIPTION:$20 general admission / $15 Mahaiwe Members / $10 ages 12 and under  \nShe Said / She Says is a comprehensive program highlighting some of the many important achievements of female composers\, arrangers\, instrumentalists and vocalists from early 20th century through present-day. Using U.S. and 20th Century women’s history as a backdrop\, She Said / She Says celebrates the lives of some of the many courageous\, creative women who have dedicated their lives to the serious study and practice of jazz music. \nEstablished in 1994\, JazzReach is a nationally recognized New York City not-for-profit organization dedicated to the promotion\, performance\, creation and teaching of jazz music. She Said / She Says will be performed by the Metta Quintet\, JazzReach’s resident ensemble. \nUse the code jazzwomen2023 at online checkout to receive free tickets!
URL:https://basicberkshires.org/event/jazzreach-metta-quintets-she-said-she-says-women-in-jazz/2023-03-09/1/
LOCATION:Mahaiwe Performing Arts Center\, 14 Castle Street\, Great Barrington\, MA\, 01230
CATEGORIES:Educational,Family Friendly,Music,Performance
ATTACH;FMTTYPE=image/png:https://basicberkshires.org/wp-content/uploads/2023/02/she-said-she-says-expanded-left.png
ORGANIZER;CN="Mahaiwe Performing Arts Center":MAILTO:info@mahaiwe.org
END:VEVENT
END:VCALENDAR